View In:
ArcGIS JavaScript
ArcGIS Online Map Viewer
ArcGIS Earth
ArcMap
View Footprint In:
ArcGIS Online Map Viewer
Service Description: Orthos/Orthos_2017
Name: Orthos/Orthos_2017
Description:
Single Fused Map Cache: false
Extent:
XMin: 2247048.000788487
YMin: 6843848.668935351
XMax: 2464810.9986108225
YMax: 7070895.666664845
Spatial Reference: PROJCS["NAD_1983_Texas_North_Central",GEOGCS["GCS_NAD83_1986",DATUM["D_North_American_1983",SPHEROID["GRS_1980",6378137.0,298.257222101]],PRIMEM["Greenwich",0.0],UNIT["Degree",0.0174532925199433]],PROJECTION["Lambert_Conformal_Conic"],PARAMETER["false_easting",1968499.99999998],PARAMETER["false_northing",6561666.6666666],PARAMETER["central_meridian",-98.5],PARAMETER["standard_parallel_1",32.133333333333],PARAMETER["standard_parallel_2",33.966666666667],PARAMETER["latitude_of_origin",31.666666666667],UNIT["US survey foot",0.3048006096012192]]
Initial Extent:
XMin: 2247048.000788487
YMin: 6843848.668935351
XMax: 2464810.9986108225
YMax: 7070895.666664845
Spatial Reference: PROJCS["NAD_1983_Texas_North_Central",GEOGCS["GCS_NAD83_1986",DATUM["D_North_American_1983",SPHEROID["GRS_1980",6378137.0,298.257222101]],PRIMEM["Greenwich",0.0],UNIT["Degree",0.0174532925199433]],PROJECTION["Lambert_Conformal_Conic"],PARAMETER["false_easting",1968499.99999998],PARAMETER["false_northing",6561666.6666666],PARAMETER["central_meridian",-98.5],PARAMETER["standard_parallel_1",32.133333333333],PARAMETER["standard_parallel_2",33.966666666667],PARAMETER["latitude_of_origin",31.666666666667],UNIT["US survey foot",0.3048006096012192]]
Full Extent:
XMin: 2247048.000788487
YMin: 6843848.668935351
XMax: 2464810.9986108225
YMax: 7070895.666664845
Spatial Reference: PROJCS["NAD_1983_Texas_North_Central",GEOGCS["GCS_NAD83_1986",DATUM["D_North_American_1983",SPHEROID["GRS_1980",6378137.0,298.257222101]],PRIMEM["Greenwich",0.0],UNIT["Degree",0.0174532925199433]],PROJECTION["Lambert_Conformal_Conic"],PARAMETER["false_easting",1968499.99999998],PARAMETER["false_northing",6561666.6666666],PARAMETER["central_meridian",-98.5],PARAMETER["standard_parallel_1",32.133333333333],PARAMETER["standard_parallel_2",33.966666666667],PARAMETER["latitude_of_origin",31.666666666667],UNIT["US survey foot",0.3048006096012192]]
Pixel Size X: 0.33333332999994714
Pixel Size Y: 0.33333332999994747
Band Count: 3
Pixel Type: U8
RasterFunction Infos: {"rasterFunctionInfos": [{
"name": "None",
"description": "A No-Op Function.",
"help": ""
}]}
Mensuration Capabilities: None
Has Histograms: true
Has Colormap: false
Has Multi Dimensions : false
Rendering Rule:
Min Scale: 0
Max Scale: 0
Copyright Text:
Service Data Type: esriImageServiceDataTypeRGB
Min Values: 0, 9, 2
Max Values: 255, 255, 255
Mean Values: 133.49563493438683, 119.49726226781259, 94.10786462665187
Standard Deviation Values: 28.60891478525806, 26.48307148488783, 24.833285792294955
Object ID Field: OBJECTID
Fields:
-
OBJECTID
(
type: esriFieldTypeOID, alias: OBJECTID
)
-
Shape
(
type: esriFieldTypeGeometry, alias: Shape
)
-
Name
(
type: esriFieldTypeString, alias: Name, length: 200
)
-
MinPS
(
type: esriFieldTypeDouble, alias: MinPS
)
-
MaxPS
(
type: esriFieldTypeDouble, alias: MaxPS
)
-
LowPS
(
type: esriFieldTypeDouble, alias: LowPS
)
-
HighPS
(
type: esriFieldTypeDouble, alias: HighPS
)
-
Category
(
type: esriFieldTypeInteger, alias: Category
, Coded Values:
[0: Unknown]
, [1: Primary]
, [2: Overview]
, ...5 more...
)
-
Tag
(
type: esriFieldTypeString, alias: Tag, length: 100
)
-
GroupName
(
type: esriFieldTypeString, alias: GroupName, length: 100
)
-
ProductName
(
type: esriFieldTypeString, alias: ProductName, length: 100
)
-
CenterX
(
type: esriFieldTypeDouble, alias: CenterX
)
-
CenterY
(
type: esriFieldTypeDouble, alias: CenterY
)
-
ZOrder
(
type: esriFieldTypeInteger, alias: ZOrder
)
-
Shape_Length
(
type: esriFieldTypeDouble, alias: Shape_Length
)
-
Shape_Area
(
type: esriFieldTypeDouble, alias: Shape_Area
)
Default Mosaic Method: Northwest
Allowed Mosaic Methods: NorthWest,Center,LockRaster,ByAttribute,Nadir,Viewpoint,Seamline,None
SortField:
SortValue: null
Mosaic Operator: First
Default Compression Quality: 75
Default Resampling Method: Bilinear
Max Record Count: 1000
Max Image Height: 4100
Max Image Width: 15000
Max Download Image Count: 20
Max Mosaic Image Count: 20
Allow Raster Function: true
Allow Copy: true
Allow Analysis: true
Allow Compute TiePoints: false
Supports Statistics: true
Supports Advanced Queries: true
Use StandardizedQueries: true
Raster Type Infos:
Name: Raster Dataset
Description: Supports all ArcGIS Raster Datasets
Help:
Has Raster Attribute Table: false
Edit Fields Info: null
Ownership Based AccessControl For Rasters: null
Child Resources:
Info
Histograms
Statistics
Key Properties
Legend
Raster Function Infos
Supported Operations:
Export Image
Query
Identify
Compute Histograms
Compute Statistics Histograms
Get Samples
Compute Class Statistics
Query Boundary
Compute Pixel Location
Compute Angles
Validate
Project